BEGIN:VCALENDAR
VERSION:2.0
PRODID:-//Jugendparlament Köniz - ECPv6.15.13//NONSGML v1.0//EN
CALSCALE:GREGORIAN
METHOD:PUBLISH
X-WR-CALNAME:Jugendparlament Köniz
X-ORIGINAL-URL:https://jupa.ch
X-WR-CALDESC:Veranstaltungen im Jugendparlament Köniz
REFRESH-INTERVAL;VALUE=DURATION:PT1H
X-Robots-Tag:noindex
X-PUBLISHED-TTL:PT1H
BEGIN:VTIMEZONE
TZID:Europe/Zurich
BEGIN:DAYLIGHT
TZOFFSETFROM:+0100
TZOFFSETTO:+0200
TZNAME:CEST
DTSTART:20250330T010000
END:DAYLIGHT
BEGIN:STANDARD
TZOFFSETFROM:+0200
TZOFFSETTO:+0100
TZNAME:CET
DTSTART:20251026T010000
END:STANDARD
BEGIN:DAYLIGHT
TZOFFSETFROM:+0100
TZOFFSETTO:+0200
TZNAME:CEST
DTSTART:20260329T010000
END:DAYLIGHT
BEGIN:STANDARD
TZOFFSETFROM:+0200
TZOFFSETTO:+0100
TZNAME:CET
DTSTART:20261025T010000
END:STANDARD
BEGIN:DAYLIGHT
TZOFFSETFROM:+0100
TZOFFSETTO:+0200
TZNAME:CEST
DTSTART:20270328T010000
END:DAYLIGHT
BEGIN:STANDARD
TZOFFSETFROM:+0200
TZOFFSETTO:+0100
TZNAME:CET
DTSTART:20271031T010000
END:STANDARD
END:VTIMEZONE
BEGIN:VEVENT
DTSTART;TZID=Europe/Zurich:20260109T180000
DTEND;TZID=Europe/Zurich:20260109T223000
DTSTAMP:20260425T133151
CREATED:20251227T121817Z
LAST-MODIFIED:20251227T174537Z
UID:1479-1767981600-1767997800@jupa.ch
SUMMARY:JuPa Mitgliederversammlung - Weihnachtsessen 2025
DESCRIPTION:JuPa Mitgliederversammlung: Wir schliessen gemeinsam das JuPA-Jahr 2025 ab. \nAn dieser Sitzung schliessen wir gemeinsam das JuPa Jahr 2025 ab\, reflektieren vergangene Projekte\, kochen zusammen und planen das kommende JuPa Jahr 2026. \nNebst vielen informativen Punkten wird an diesem Abend auch der Vorstandsposten Medien und Kommunikation neu besetzt. \nHast du Interesse\, im Vorstand mitzuwirken und begeisterst dich für Social Media Auftritte\, Flyer Gestaltung oder Kommunikation allgemein\, dann bewirb dich unbedingt für diesen Posten. \nAls neues Vorstandsmitglied wirst du selbstverständlich begleitet. Wir zeigen dir\, wie alles läuft\, erklären dir deine Aufgaben und unterstützen dich beim Einstieg. Auch der zeitliche Aufwand sowie die Vorstandsitzungen werden transparent besprochen. \nSchreibe mir bei Interesse und wir können gemeinsam die nächsten Schritte besprechen. \nWir freuen uns auf dein Kommen und einen gemeinsamen\, spannenden Abend.
URL:https://jupa.ch/event/jupa-mitgliederversammlung-weihnachtsessen-2025/
LOCATION:Schwarzenburgstrasse 196\, 3097 Liebefeld\, Schwarzenburgstrasse 196\, Liebefeld\, Bern\, 3097\, Switzerland
CATEGORIES:JuPa Köniz
ATTACH;FMTTYPE=image/jpeg:https://jupa.ch/wp-content/uploads/2025/12/gedeckter-tisch-mit-traditionellem-weihnachtsessen-scaled.jpg
END:VEVENT
END:VCALENDAR